BEGIN:VCALENDAR
VERSION:2.0
PRODID:-//CRARC Aquitaine - ECPv5.10.1//NONSGML v1.0//EN
CALSCALE:GREGORIAN
METHOD:PUBLISH
X-WR-CALNAME:CRARC Aquitaine
X-ORIGINAL-URL:http://www.crarc-aquitaine.org
X-WR-CALDESC:évènements pour CRARC Aquitaine
BEGIN:VTIMEZONE
TZID:Europe/Paris
BEGIN:DAYLIGHT
TZOFFSETFROM:+0100
TZOFFSETTO:+0200
TZNAME:CEST
DTSTART:20150329T010000
END:DAYLIGHT
BEGIN:STANDARD
TZOFFSETFROM:+0200
TZOFFSETTO:+0100
TZNAME:CET
DTSTART:20151025T010000
END:STANDARD
END:VTIMEZONE
BEGIN:VEVENT
DTSTART;TZID=Europe/Paris:20150601T180000
DTEND;TZID=Europe/Paris:20150601T200000
DTSTAMP:20260424T232345
CREATED:20150511T201430Z
LAST-MODIFIED:20150511T204447Z
UID:6429-1433181600-1433188800@www.crarc-aquitaine.org
SUMMARY:Territoires habités dans les Landes avec Pascal de Lavergne\, vernissage exposition le 1er juin 2015 - LPA de Sabres
DESCRIPTION:
URL:http://www.crarc-aquitaine.org/evenement/territoires-habites-dans-les-landes-vernissage-exposition-le-3-juin-2015-lpa-de-sabres/
LOCATION:LPA de Sabres\, Sabres\, 40\, France
CATEGORIES:Arts plastiques et visuels,Atelier de pratique artistique,Atelier de sensibilisation artistique,Expositions,Résidences
ATTACH;FMTTYPE=image/jpeg:http://www.crarc-aquitaine.org/wp-content/uploads/2015/05/3Inv3.jpg
END:VEVENT
END:VCALENDAR