BEGIN:VCALENDAR
VERSION:2.0
PRODID:-//CRARC Aquitaine - ECPv5.10.1//NONSGML v1.0//EN
CALSCALE:GREGORIAN
METHOD:PUBLISH
X-WR-CALNAME:CRARC Aquitaine
X-ORIGINAL-URL:http://www.crarc-aquitaine.org
X-WR-CALDESC:évènements pour CRARC Aquitaine
BEGIN:VTIMEZONE
TZID:Europe/Paris
BEGIN:DAYLIGHT
TZOFFSETFROM:+0100
TZOFFSETTO:+0200
TZNAME:CEST
DTSTART:20150329T010000
END:DAYLIGHT
BEGIN:STANDARD
TZOFFSETFROM:+0200
TZOFFSETTO:+0100
TZNAME:CET
DTSTART:20151025T010000
END:STANDARD
END:VTIMEZONE
BEGIN:VEVENT
DTSTART;TZID=Europe/Paris:20150519T190000
DTEND;TZID=Europe/Paris:20150519T210000
DTSTAMP:20260424T061501
CREATED:20150511T190518Z
LAST-MODIFIED:20150514T183637Z
UID:6418-1432062000-1432069200@www.crarc-aquitaine.org
SUMMARY:Absences en terres agricoles avec Christophe Goussard - Vernissage exposition à La Commanderie
DESCRIPTION:
URL:http://www.crarc-aquitaine.org/evenement/absences-en-terres-agricoles/
LOCATION:La Commanderie\, Lacommande\, 64360
CATEGORIES:Arts plastiques et visuels,Atelier de pratique artistique,Atelier de sensibilisation artistique,Expositions,Résidences
ATTACH;FMTTYPE=image/jpeg:http://www.crarc-aquitaine.org/wp-content/uploads/2015/05/Absences-en-terres-agricoles1-Version-3.jpg
END:VEVENT
END:VCALENDAR